Package: Summix Version: 2.15.0 Command: rm -rf Summix.buildbin-libdir && mkdir Summix.buildbin-libdir && F:\biocbuild\bbs-3.22-bioc\R\bin\R.exe CMD INSTALL --build --library=Summix.buildbin-libdir Summix_2.15.0.tar.gz StartedAt: 2025-07-22 10:15:58 -0400 (Tue, 22 Jul 2025) EndedAt: 2025-07-22 10:16:16 -0400 (Tue, 22 Jul 2025) EllapsedTime: 17.7 seconds RetCode: 0 Status: OK PackageFile: Summix_2.15.0.zip PackageFileSize: 356.6 KiB