Package: Summix Version: 2.15.0 Command: /Library/Frameworks/R.framework/Resources/bin/R CMD build --keep-empty-dirs --no-resave-data Summix StartedAt: 2025-07-14 18:44:56 -0400 (Mon, 14 Jul 2025) EndedAt: 2025-07-14 18:45:13 -0400 (Mon, 14 Jul 2025) EllapsedTime: 17.1 seconds RetCode: 0 Status: OK PackageFile: Summix_2.15.0.tar.gz PackageFileSize: 1.254 MiB