Package: Summix Version: 2.15.0 Command: rm -rf Summix.buildbin-libdir && mkdir Summix.buildbin-libdir && /Users/biocbuild/BBS/utils/build-universal.sh Summix_2.15.0.tar.gz /Library/Frameworks/R.framework/Resources/bin/R Summix.buildbin-libdir StartedAt: 2025-07-01 22:36:57 -0400 (Tue, 01 Jul 2025) EndedAt: 2025-07-01 22:37:02 -0400 (Tue, 01 Jul 2025) EllapsedTime: 5.1 seconds RetCode: 0 Status: OK PackageFile: Summix_2.15.0.tgz PackageFileSize: 354.9 KiB