Package: SummarizedExperiment Version: 1.39.1 Command: /Library/Frameworks/R.framework/Resources/bin/R CMD INSTALL SummarizedExperiment StartedAt: 2025-07-07 15:10:33 -0400 (Mon, 07 Jul 2025) EndedAt: 2025-07-07 15:10:44 -0400 (Mon, 07 Jul 2025) EllapsedTime: 11.0 seconds RetCode: 0 Status: OK