Package: SummarizedExperiment Version: 1.39.1 Command: /Library/Frameworks/R.framework/Resources/bin/R CMD check --install=check:SummarizedExperiment.install-out.txt --library=/Library/Frameworks/R.framework/Resources/library --no-vignettes --timings SummarizedExperiment_1.39.1.tar.gz StartedAt: 2025-07-07 21:40:32 -0400 (Mon, 07 Jul 2025) EndedAt: 2025-07-07 21:41:48 -0400 (Mon, 07 Jul 2025) EllapsedTime: 75.9 seconds RetCode: 0 Status: OK CheckDir: SummarizedExperiment.Rcheck Warnings: 0