Package: SummarizedExperiment Version: 1.39.1 Command: rm -rf SummarizedExperiment.buildbin-libdir && mkdir SummarizedExperiment.buildbin-libdir && /Users/biocbuild/BBS/utils/build-universal.sh SummarizedExperiment_1.39.1.tar.gz /Library/Frameworks/R.framework/Resources/bin/R SummarizedExperiment.buildbin-libdir StartedAt: 2025-07-07 22:34:41 -0400 (Mon, 07 Jul 2025) EndedAt: 2025-07-07 22:34:53 -0400 (Mon, 07 Jul 2025) EllapsedTime: 12.3 seconds RetCode: 0 Status: OK PackageFile: SummarizedExperiment_1.39.1.tgz PackageFileSize: 1.88 MiB