Package: Streamer Version: 1.55.1 Command: /home/biocbuild/R/R/bin/R CMD build --keep-empty-dirs --no-resave-data Streamer StartedAt: 2025-07-25 04:13:32 -0000 (Fri, 25 Jul 2025) EndedAt: 2025-07-25 04:13:55 -0000 (Fri, 25 Jul 2025) EllapsedTime: 23.0 seconds RetCode: 0 Status: OK PackageFile: Streamer_1.55.1.tar.gz PackageFileSize: 131 KiB