Package: Streamer Version: 1.55.1 Command: /home/biocbuild/bbs-3.22-bioc/R/bin/R CMD INSTALL Streamer StartedAt: 2025-06-30 15:12:58 -0400 (Mon, 30 Jun 2025) EndedAt: 2025-06-30 15:13:04 -0400 (Mon, 30 Jun 2025) EllapsedTime: 5.9 seconds RetCode: 0 Status: OK