Package: Statial Version: 1.11.0 Command: /Library/Frameworks/R.framework/Resources/bin/R CMD INSTALL Statial StartedAt: 2025-07-02 15:23:48 -0400 (Wed, 02 Jul 2025) EndedAt: 2025-07-02 15:24:23 -0400 (Wed, 02 Jul 2025) EllapsedTime: 35.3 seconds RetCode: 0 Status: OK