Package: Statial Version: 1.11.0 Command: rm -rf Statial.buildbin-libdir && mkdir Statial.buildbin-libdir && /Users/biocbuild/BBS/utils/build-universal.sh Statial_1.11.0.tar.gz /Library/Frameworks/R.framework/Resources/bin/R Statial.buildbin-libdir StartedAt: 2025-07-03 01:10:15 -0400 (Thu, 03 Jul 2025) EndedAt: 2025-07-03 01:10:54 -0400 (Thu, 03 Jul 2025) EllapsedTime: 39.5 seconds RetCode: 0 Status: OK PackageFile: Statial_1.11.0.tgz PackageFileSize: 9.676 MiB