Package: Statial Version: 1.11.0 Command: /Library/Frameworks/R.framework/Resources/bin/R CMD check --install=check:Statial.install-out.txt --library=/Library/Frameworks/R.framework/Resources/library --no-vignettes --timings Statial_1.11.0.tar.gz StartedAt: 2025-07-11 21:42:04 -0400 (Fri, 11 Jul 2025) EndedAt: 2025-07-11 21:45:44 -0400 (Fri, 11 Jul 2025) EllapsedTime: 220.8 seconds RetCode: 0 Status: WARNINGS CheckDir: Statial.Rcheck Warnings: 1