Package: Statial Version: 1.11.0 Maintainer: Farhan Ameen MaintainerEmail: fame2827 at uni.sydney.edu.au git_url: https://git.bioconductor.org/packages/Statial git_branch: devel git_last_commit: ba5a9a8 git_last_commit_date: 2025-04-15 12:59:37 -0400 (Tue, 15 Apr 2025)