Package: SpotSweeper Version: 1.5.0 Command: F:\biocbuild\bbs-3.22-bioc\R\bin\R.exe CMD INSTALL SpotSweeper StartedAt: 2025-07-02 16:55:25 -0400 (Wed, 02 Jul 2025) EndedAt: 2025-07-02 16:56:13 -0400 (Wed, 02 Jul 2025) EllapsedTime: 47.4 seconds RetCode: 0 Status: OK