Package: SpotSweeper Version: 1.5.0 Command: chmod a+r SpotSweeper -R && F:\biocbuild\bbs-3.22-bioc\R\bin\R.exe CMD build --keep-empty-dirs --no-resave-data SpotSweeper StartedAt: 2025-07-04 22:20:44 -0400 (Fri, 04 Jul 2025) EndedAt: 2025-07-04 22:23:52 -0400 (Fri, 04 Jul 2025) EllapsedTime: 188.2 seconds RetCode: 0 Status: OK PackageFile: SpotSweeper_1.5.0.tar.gz PackageFileSize: 3.125 MiB