Package: SpotClean Version: 1.11.0 Command: /home/biocbuild/R/R/bin/R CMD INSTALL SpotClean StartedAt: 2025-07-14 20:34:04 -0000 (Mon, 14 Jul 2025) EndedAt: 2025-07-14 20:34:54 -0000 (Mon, 14 Jul 2025) EllapsedTime: 49.8 seconds RetCode: 0 Status: OK