Package: SpotClean Version: 1.11.0 Command: /home/biocbuild/R/R/bin/R CMD check --install=check:SpotClean.install-out.txt --library=/home/biocbuild/R/R/site-library --no-vignettes --timings SpotClean_1.11.0.tar.gz StartedAt: 2025-07-15 12:14:18 -0000 (Tue, 15 Jul 2025) EndedAt: 2025-07-15 12:23:30 -0000 (Tue, 15 Jul 2025) EllapsedTime: 552.6 seconds RetCode: 0 Status: OK CheckDir: SpotClean.Rcheck Warnings: 0