Package: SpotClean Version: 1.11.0 Command: /Library/Frameworks/R.framework/Resources/bin/R CMD check --install=check:SpotClean.install-out.txt --library=/Library/Frameworks/R.framework/Resources/library --no-vignettes --timings SpotClean_1.11.0.tar.gz StartedAt: 2025-07-23 00:02:16 -0400 (Wed, 23 Jul 2025) EndedAt: 2025-07-23 00:12:42 -0400 (Wed, 23 Jul 2025) EllapsedTime: 625.6 seconds RetCode: 0 Status: OK CheckDir: SpotClean.Rcheck Warnings: 0