Package: SpotClean Version: 1.11.0 Command: /Library/Frameworks/R.framework/Resources/bin/R CMD build --keep-empty-dirs --no-resave-data SpotClean StartedAt: 2025-07-22 18:36:41 -0400 (Tue, 22 Jul 2025) EndedAt: 2025-07-22 18:40:17 -0400 (Tue, 22 Jul 2025) EllapsedTime: 215.8 seconds RetCode: 0 Status: OK PackageFile: SpotClean_1.11.0.tar.gz PackageFileSize: 4.274 MiB