Package: SplineDV Version: 1.1.1 Command: /home/biocbuild/R/R/bin/R CMD check --install=check:SplineDV.install-out.txt --library=/home/biocbuild/R/R/site-library --no-vignettes --timings SplineDV_1.1.1.tar.gz StartedAt: 2025-10-10 14:07:17 -0000 (Fri, 10 Oct 2025) EndedAt: 2025-10-10 14:13:12 -0000 (Fri, 10 Oct 2025) EllapsedTime: 354.7 seconds RetCode: 0 Status: OK CheckDir: SplineDV.Rcheck Warnings: 0