Package: SpliceWiz Version: 1.11.0 Command: /home/biocbuild/R/R/bin/R CMD INSTALL SpliceWiz StartedAt: 2025-10-02 21:02:20 -0000 (Thu, 02 Oct 2025) EndedAt: 2025-10-02 21:04:43 -0000 (Thu, 02 Oct 2025) EllapsedTime: 143.7 seconds RetCode: 0 Status: OK