Package: SpliceWiz Version: 1.11.0 Command: /home/biocbuild/R/R/bin/R CMD check --install=check:SpliceWiz.install-out.txt --library=/home/biocbuild/R/R/site-library --no-vignettes --timings SpliceWiz_1.11.0.tar.gz StartedAt: 2025-10-07 12:32:11 -0000 (Tue, 07 Oct 2025) EndedAt: 2025-10-07 12:49:46 -0000 (Tue, 07 Oct 2025) EllapsedTime: 1055.5 seconds RetCode: 0 Status: WARNINGS CheckDir: SpliceWiz.Rcheck Warnings: 1