Package: SpliceWiz Version: 1.11.0 Command: /home/biocbuild/R/R/bin/R CMD build --keep-empty-dirs --no-resave-data SpliceWiz StartedAt: 2025-10-03 03:28:44 -0000 (Fri, 03 Oct 2025) EndedAt: 2025-10-03 03:36:41 -0000 (Fri, 03 Oct 2025) EllapsedTime: 476.1 seconds RetCode: 0 Status: OK PackageFile: SpliceWiz_1.11.0.tar.gz PackageFileSize: 4.243 MiB