Package: SpectriPy Version: 0.99.6 Command: /Library/Frameworks/R.framework/Resources/bin/R CMD check --install=check:SpectriPy.install-out.txt --library=/Library/Frameworks/R.framework/Resources/library --no-vignettes --timings SpectriPy_0.99.6.tar.gz StartedAt: 2025-07-07 23:47:31 -0400 (Mon, 07 Jul 2025) EndedAt: 2025-07-07 23:53:49 -0400 (Mon, 07 Jul 2025) EllapsedTime: 377.8 seconds RetCode: 0 Status: WARNINGS CheckDir: SpectriPy.Rcheck Warnings: 4