Package: SpectriPy Version: 0.99.6 Command: rm -rf SpectriPy.buildbin-libdir && mkdir SpectriPy.buildbin-libdir && /Users/biocbuild/BBS/utils/build-universal.sh SpectriPy_0.99.6.tar.gz /Library/Frameworks/R.framework/Resources/bin/R SpectriPy.buildbin-libdir StartedAt: 2025-07-08 01:18:11 -0400 (Tue, 08 Jul 2025) EndedAt: 2025-07-08 01:19:04 -0400 (Tue, 08 Jul 2025) EllapsedTime: 53.5 seconds RetCode: 0 Status: OK PackageFile: SpectriPy_0.99.6.tgz PackageFileSize: 1.025 MiB