############################################################################## ############################################################################## ### ### Running command: ### ### rm -rf SpectriPy.buildbin-libdir && mkdir SpectriPy.buildbin-libdir && /Users/biocbuild/BBS/utils/build-universal.sh SpectriPy_0.99.6.tar.gz /Library/Frameworks/R.framework/Resources/bin/R SpectriPy.buildbin-libdir ### ############################################################################## ############################################################################## >>>>>>> >>>>>>> INSTALLATION WITH 'R CMD INSTALL --preclean --no-multiarch --library=SpectriPy.buildbin-libdir SpectriPy_0.99.6.tar.gz' >>>>>>> * installing *source* package ‘SpectriPy’ ... ** this is package ‘SpectriPy’ version ‘0.99.6’ ** using staged installation ** R ** inst ** byte-compile and prepare package for lazy loading ** help *** installing help indices ** building package indices ** installing vignettes ** testing if installed package can be loaded from temporary location /Users/biocbuild/Library/Caches/org.R-project.R/R/reticulate/uv/cache/archive-v0/zKHw1v0H_l8vatnSrvGim/lib/python3.11/site-packages/numba/cpython/old_hashing.py:477: UserWarning: FNV hashing is not implemented in Numba. See PEP 456 https://www.python.org/dev/peps/pep-0456/ for rationale over not using FNV. Numba will continue to work, but hashes for built in types will be computed using siphash24. This will permit e.g. dictionaries to continue to behave as expected, however anything relying on the value of the hash opposed to hash as a derived property is likely to not work as expected. warnings.warn(msg) ** testing if installed package can be loaded from final location /Users/biocbuild/Library/Caches/org.R-project.R/R/reticulate/uv/cache/archive-v0/zKHw1v0H_l8vatnSrvGim/lib/python3.11/site-packages/numba/cpython/old_hashing.py:477: UserWarning: FNV hashing is not implemented in Numba. See PEP 456 https://www.python.org/dev/peps/pep-0456/ for rationale over not using FNV. Numba will continue to work, but hashes for built in types will be computed using siphash24. This will permit e.g. dictionaries to continue to behave as expected, however anything relying on the value of the hash opposed to hash as a derived property is likely to not work as expected. warnings.warn(msg) ** testing if installed package keeps a record of temporary installation path * DONE (SpectriPy)