Package: SpectralTAD Version: 1.25.0 Command: chmod a+r SpectralTAD -R && F:\biocbuild\bbs-3.22-bioc\R\bin\R.exe CMD build --keep-empty-dirs --no-resave-data SpectralTAD StartedAt: 2025-07-16 22:18:04 -0400 (Wed, 16 Jul 2025) EndedAt: 2025-07-16 22:20:25 -0400 (Wed, 16 Jul 2025) EllapsedTime: 140.5 seconds RetCode: 0 Status: OK PackageFile: SpectralTAD_1.25.0.tar.gz PackageFileSize: 1.491 MiB