Package: SpectralTAD Version: 1.25.0 Command: /Library/Frameworks/R.framework/Resources/bin/R CMD INSTALL SpectralTAD StartedAt: 2025-07-01 15:16:36 -0400 (Tue, 01 Jul 2025) EndedAt: 2025-07-01 15:16:41 -0400 (Tue, 01 Jul 2025) EllapsedTime: 4.9 seconds RetCode: 0 Status: OK