Package: SpectralTAD Version: 1.25.0 Command: rm -rf SpectralTAD.buildbin-libdir && mkdir SpectralTAD.buildbin-libdir && /Users/biocbuild/BBS/utils/build-universal.sh SpectralTAD_1.25.0.tar.gz /Library/Frameworks/R.framework/Resources/bin/R SpectralTAD.buildbin-libdir StartedAt: 2025-07-01 22:36:16 -0400 (Tue, 01 Jul 2025) EndedAt: 2025-07-01 22:36:21 -0400 (Tue, 01 Jul 2025) EllapsedTime: 5.1 seconds RetCode: 0 Status: OK PackageFile: SpectralTAD_1.25.0.tgz PackageFileSize: 1.472 MiB