Package: SpectraQL Version: 1.3.1 Command: F:\biocbuild\bbs-3.22-bioc\R\bin\R.exe CMD INSTALL SpectraQL StartedAt: 2025-07-13 15:42:06 -0400 (Sun, 13 Jul 2025) EndedAt: 2025-07-13 15:42:22 -0400 (Sun, 13 Jul 2025) EllapsedTime: 15.5 seconds RetCode: 0 Status: OK