Package: Spectra Version: 1.19.4 Command: F:\biocbuild\bbs-3.22-bioc\R\bin\R.exe CMD check --no-multiarch --install=check:Spectra.install-out.txt --library=F:\biocbuild\bbs-3.22-bioc\R\library --no-vignettes --timings Spectra_1.19.4.tar.gz StartedAt: 2025-08-15 08:15:06 -0400 (Fri, 15 Aug 2025) EndedAt: 2025-08-15 08:28:29 -0400 (Fri, 15 Aug 2025) EllapsedTime: 803.0 seconds RetCode: 0 Status: OK CheckDir: Spectra.Rcheck Warnings: 0