Package: Spectra Version: 1.19.2 Command: /Library/Frameworks/R.framework/Resources/bin/R CMD build --keep-empty-dirs --no-resave-data Spectra StartedAt: 2025-07-01 17:39:44 -0400 (Tue, 01 Jul 2025) EndedAt: 2025-07-01 17:40:10 -0400 (Tue, 01 Jul 2025) EllapsedTime: 26.3 seconds RetCode: 0 Status: OK PackageFile: Spectra_1.19.2.tar.gz PackageFileSize: 1.511 MiB