Package: Spectra Version: 1.19.2 Command: rm -rf Spectra.buildbin-libdir && mkdir Spectra.buildbin-libdir && /Users/biocbuild/BBS/utils/build-universal.sh Spectra_1.19.2.tar.gz /Library/Frameworks/R.framework/Resources/bin/R Spectra.buildbin-libdir StartedAt: 2025-07-01 22:36:16 -0400 (Tue, 01 Jul 2025) EndedAt: 2025-07-01 22:36:24 -0400 (Tue, 01 Jul 2025) EllapsedTime: 7.2 seconds RetCode: 0 Status: OK PackageFile: Spectra_1.19.2.tgz PackageFileSize: 2.11 MiB