Package: SpeCond Version: 1.63.0 Command: /home/biocbuild/R/R/bin/R CMD INSTALL SpeCond StartedAt: 2025-07-07 20:19:40 -0000 (Mon, 07 Jul 2025) EndedAt: 2025-07-07 20:20:00 -0000 (Mon, 07 Jul 2025) EllapsedTime: 20.4 seconds RetCode: 0 Status: OK