Package: SpeCond Version: 1.63.0 Command: /home/biocbuild/R/R/bin/R CMD build --keep-empty-dirs --no-resave-data SpeCond StartedAt: 2025-07-08 02:52:09 -0000 (Tue, 08 Jul 2025) EndedAt: 2025-07-08 02:53:14 -0000 (Tue, 08 Jul 2025) EllapsedTime: 65.1 seconds RetCode: 0 Status: OK PackageFile: SpeCond_1.63.0.tar.gz PackageFileSize: 1.697 MiB