Package: SpeCond Version: 1.63.0 Command: F:\biocbuild\bbs-3.22-bioc\R\bin\R.exe CMD INSTALL SpeCond StartedAt: 2025-07-16 15:31:30 -0400 (Wed, 16 Jul 2025) EndedAt: 2025-07-16 15:31:51 -0400 (Wed, 16 Jul 2025) EllapsedTime: 20.2 seconds RetCode: 0 Status: OK