Package: SpeCond Version: 1.63.0 Command: chmod a+r SpeCond -R && F:\biocbuild\bbs-3.22-bioc\R\bin\R.exe CMD build --keep-empty-dirs --no-resave-data SpeCond StartedAt: 2025-07-16 22:17:37 -0400 (Wed, 16 Jul 2025) EndedAt: 2025-07-16 22:18:47 -0400 (Wed, 16 Jul 2025) EllapsedTime: 70.0 seconds RetCode: 0 Status: OK PackageFile: SpeCond_1.63.0.tar.gz PackageFileSize: 1.7 MiB