Package: SpatialFeatureExperiment Version: 1.11.1 Command: /home/biocbuild/R/R/bin/R CMD INSTALL SpatialFeatureExperiment StartedAt: 2025-10-09 21:36:48 -0000 (Thu, 09 Oct 2025) EndedAt: 2025-10-09 21:38:02 -0000 (Thu, 09 Oct 2025) EllapsedTime: 73.8 seconds RetCode: 0 Status: OK