Package: SpatialFeatureExperiment Version: 1.11.0 Command: rm -rf SpatialFeatureExperiment.buildbin-libdir && mkdir SpatialFeatureExperiment.buildbin-libdir && F:\biocbuild\bbs-3.22-bioc\R\bin\R.exe CMD INSTALL --build --library=SpatialFeatureExperiment.buildbin-libdir SpatialFeatureExperiment_1.11.0.tar.gz StartedAt: 2025-07-15 10:02:15 -0400 (Tue, 15 Jul 2025) EndedAt: 2025-07-15 10:15:50 -0400 (Tue, 15 Jul 2025) EllapsedTime: 814.8 seconds RetCode: 0 Status: OK PackageFile: SpatialFeatureExperiment_1.11.0.zip PackageFileSize: 2.694 MiB