Package: SpatialFeatureExperiment Version: 1.11.0 Command: /Library/Frameworks/R.framework/Resources/bin/R CMD INSTALL SpatialFeatureExperiment StartedAt: 2025-07-15 15:16:08 -0400 (Tue, 15 Jul 2025) EndedAt: 2025-07-15 15:16:30 -0400 (Tue, 15 Jul 2025) EllapsedTime: 21.5 seconds RetCode: 0 Status: OK