Package: SpatialFeatureExperiment Version: 1.11.0 Command: /Library/Frameworks/R.framework/Resources/bin/R CMD build --keep-empty-dirs --no-resave-data SpatialFeatureExperiment StartedAt: 2025-07-01 17:39:09 -0400 (Tue, 01 Jul 2025) EndedAt: 2025-07-01 17:40:02 -0400 (Tue, 01 Jul 2025) EllapsedTime: 52.6 seconds RetCode: 0 Status: OK PackageFile: SpatialFeatureExperiment_1.11.0.tar.gz PackageFileSize: 1.814 MiB