Package: SpatialExperiment Version: 1.19.1 Command: F:\biocbuild\bbs-3.22-bioc\R\bin\R.exe CMD INSTALL SpatialExperiment StartedAt: 2025-07-20 16:03:35 -0400 (Sun, 20 Jul 2025) EndedAt: 2025-07-20 16:04:54 -0400 (Sun, 20 Jul 2025) EllapsedTime: 79.0 seconds RetCode: 0 Status: OK