Package: SpatialExperiment Version: 1.19.1 Command: F:\biocbuild\bbs-3.22-bioc\R\bin\R.exe CMD check --no-multiarch --install=check:SpatialExperiment.install-out.txt --library=F:\biocbuild\bbs-3.22-bioc\R\library --no-vignettes --timings SpatialExperiment_1.19.1.tar.gz StartedAt: 2025-07-22 07:00:44 -0400 (Tue, 22 Jul 2025) EndedAt: 2025-07-22 07:05:19 -0400 (Tue, 22 Jul 2025) EllapsedTime: 274.4 seconds RetCode: 0 Status: OK CheckDir: SpatialExperiment.Rcheck Warnings: 0