Package: SpatialExperiment Version: 1.19.1 Command: chmod a+r SpatialExperiment -R && F:\biocbuild\bbs-3.22-bioc\R\bin\R.exe CMD build --keep-empty-dirs --no-resave-data SpatialExperiment StartedAt: 2025-07-20 22:15:51 -0400 (Sun, 20 Jul 2025) EndedAt: 2025-07-20 22:17:31 -0400 (Sun, 20 Jul 2025) EllapsedTime: 100.1 seconds RetCode: 0 Status: OK PackageFile: SpatialExperiment_1.19.1.tar.gz PackageFileSize: 5.241 MiB