Package: SpatialCPie Version: 1.25.0 Command: F:\biocbuild\bbs-3.22-bioc\R\bin\R.exe CMD INSTALL SpatialCPie StartedAt: 2025-07-07 15:58:09 -0400 (Mon, 07 Jul 2025) EndedAt: 2025-07-07 15:58:53 -0400 (Mon, 07 Jul 2025) EllapsedTime: 44.7 seconds RetCode: 0 Status: OK