Package: SpatialCPie Version: 1.25.0 Command: /Library/Frameworks/R.framework/Resources/bin/R CMD INSTALL SpatialCPie StartedAt: 2025-07-01 15:09:01 -0400 (Tue, 01 Jul 2025) EndedAt: 2025-07-01 15:09:12 -0400 (Tue, 01 Jul 2025) EllapsedTime: 10.4 seconds RetCode: 0 Status: OK