Package: SpatialCPie Version: 1.25.0 Command: /Library/Frameworks/R.framework/Resources/bin/R CMD build --keep-empty-dirs --no-resave-data SpatialCPie StartedAt: 2025-07-01 17:38:27 -0400 (Tue, 01 Jul 2025) EndedAt: 2025-07-01 17:38:48 -0400 (Tue, 01 Jul 2025) EllapsedTime: 21.2 seconds RetCode: 0 Status: OK PackageFile: SpatialCPie_1.25.0.tar.gz PackageFileSize: 1.556 MiB