Package: Spaniel Version: 1.23.0 Command: F:\biocbuild\bbs-3.22-bioc\R\bin\R.exe CMD INSTALL Spaniel StartedAt: 2025-07-14 16:57:16 -0400 (Mon, 14 Jul 2025) EndedAt: 2025-07-14 16:58:08 -0400 (Mon, 14 Jul 2025) EllapsedTime: 52.8 seconds RetCode: 0 Status: OK