Package: Spaniel Version: 1.23.0 Command: F:\biocbuild\bbs-3.22-bioc\R\bin\R.exe CMD check --no-multiarch --install=check:Spaniel.install-out.txt --library=F:\biocbuild\bbs-3.22-bioc\R\library --no-vignettes --timings Spaniel_1.23.0.tar.gz StartedAt: 2025-07-15 06:48:01 -0400 (Tue, 15 Jul 2025) EndedAt: 2025-07-15 06:53:22 -0400 (Tue, 15 Jul 2025) EllapsedTime: 320.7 seconds RetCode: 0 Status: OK CheckDir: Spaniel.Rcheck Warnings: 0