Package: SpaceTrooper Version: 0.99.4 Command: /Library/Frameworks/R.framework/Resources/bin/R CMD check --install=check:SpaceTrooper.install-out.txt --library=/Library/Frameworks/R.framework/Resources/library --no-vignettes --timings SpaceTrooper_0.99.4.tar.gz StartedAt: 2025-10-06 00:46:19 -0400 (Mon, 06 Oct 2025) EndedAt: 2025-10-06 00:54:38 -0400 (Mon, 06 Oct 2025) EllapsedTime: 498.5 seconds RetCode: 0 Status: OK CheckDir: SpaceTrooper.Rcheck Warnings: 0