Package: SpacePAC Version: 1.45.1 Command: F:\biocbuild\bbs-3.22-bioc\R\bin\R.exe CMD INSTALL SpacePAC StartedAt: 2025-04-08 16:59:23 -0400 (Tue, 08 Apr 2025) EndedAt: 2025-04-08 16:59:45 -0400 (Tue, 08 Apr 2025) EllapsedTime: 21.2 seconds RetCode: 0 Status: OK